BEGIN:VCALENDAR
VERSION:2.0
PRODID:-//Muzej novejše zgodovine Celje - ECPv6.15.16//NONSGML v1.0//EN
CALSCALE:GREGORIAN
METHOD:PUBLISH
X-WR-CALNAME:Muzej novejše zgodovine Celje
X-ORIGINAL-URL:https://www.muzej-nz-ce.si
X-WR-CALDESC:Dogodki za Muzej novejše zgodovine Celje
REFRESH-INTERVAL;VALUE=DURATION:PT1H
X-Robots-Tag:noindex
X-PUBLISHED-TTL:PT1H
BEGIN:VTIMEZONE
TZID:Europe/Ljubljana
BEGIN:DAYLIGHT
TZOFFSETFROM:+0100
TZOFFSETTO:+0200
TZNAME:CEST
DTSTART:20240331T010000
END:DAYLIGHT
BEGIN:STANDARD
TZOFFSETFROM:+0200
TZOFFSETTO:+0100
TZNAME:CET
DTSTART:20241027T010000
END:STANDARD
BEGIN:DAYLIGHT
TZOFFSETFROM:+0100
TZOFFSETTO:+0200
TZNAME:CEST
DTSTART:20250330T010000
END:DAYLIGHT
BEGIN:STANDARD
TZOFFSETFROM:+0200
TZOFFSETTO:+0100
TZNAME:CET
DTSTART:20251026T010000
END:STANDARD
BEGIN:DAYLIGHT
TZOFFSETFROM:+0100
TZOFFSETTO:+0200
TZNAME:CEST
DTSTART:20260329T010000
END:DAYLIGHT
BEGIN:STANDARD
TZOFFSETFROM:+0200
TZOFFSETTO:+0100
TZNAME:CET
DTSTART:20261025T010000
END:STANDARD
END:VTIMEZONE
BEGIN:VEVENT
DTSTART;TZID=Europe/Ljubljana:20250927T090000
DTEND;TZID=Europe/Ljubljana:20250927T090000
DTSTAMP:20260421T104310
CREATED:20260224T170024Z
LAST-MODIFIED:20260225T090159Z
UID:10001603-1758963600-1758963600@www.muzej-nz-ce.si
SUMMARY:Konec vojne\, živel mir!
DESCRIPTION:Celje 1945\, javno vodstvo po občasni razstavi. \nDnevi evropske kulturne dediščine. \nProst vstop.
URL:https://www.muzej-nz-ce.si/dogodek/konec-vojne-zivel-mir/
CATEGORIES:Arhiv dogodkov
END:VEVENT
BEGIN:VEVENT
DTSTART;TZID=Europe/Ljubljana:20250926T090000
DTEND;TZID=Europe/Ljubljana:20250926T090000
DTSTAMP:20260421T104310
CREATED:20260224T170024Z
LAST-MODIFIED:20260225T090159Z
UID:10001602-1758877200-1758877200@www.muzej-nz-ce.si
SUMMARY:Svet Hermanovih prijateljev
DESCRIPTION:Hermanova otroška ustvarjalnica ob razstavi Svet Hermanovih prijateljev. \nZa skupine\, predhodna najava. \nVstopnina 5 EUR (predšolski brezplačno) + ustvarjalnica 2 EUR na osebo.
URL:https://www.muzej-nz-ce.si/dogodek/svet-hermanovih-prijateljev-8/
CATEGORIES:Arhiv dogodkov
END:VEVENT
BEGIN:VEVENT
DTSTART;TZID=Europe/Ljubljana:20250925T160000
DTEND;TZID=Europe/Ljubljana:20250925T160000
DTSTAMP:20260421T104310
CREATED:20260224T170024Z
LAST-MODIFIED:20260225T090159Z
UID:10001601-1758816000-1758816000@www.muzej-nz-ce.si
SUMMARY:Javno vodstvo po Fotohiši Pelikan
DESCRIPTION:Javno vodstvo po Fotohiši Pelikan (do 10 oseb). \nPrijave na: info@mnzc.si in 03 428 64 28. \nVstopnina po ceniku (klik).
URL:https://www.muzej-nz-ce.si/dogodek/javno-vodstvo-po-fotohisi-pelikan-300/
CATEGORIES:Arhiv dogodkov
END:VEVENT
BEGIN:VEVENT
DTSTART;TZID=Europe/Ljubljana:20250923T160000
DTEND;TZID=Europe/Ljubljana:20250923T160000
DTSTAMP:20260421T104310
CREATED:20260224T170024Z
LAST-MODIFIED:20260225T090159Z
UID:10001600-1758643200-1758643200@www.muzej-nz-ce.si
SUMMARY:Javno vodstvo po Fotohiši Pelikan
DESCRIPTION:Javno vodstvo po Fotohiši Pelikan (do 10 oseb). \nPrijave na: info@mnzc.si in 03 428 64 28. \nVstopnina po ceniku (klik).
URL:https://www.muzej-nz-ce.si/dogodek/javno-vodstvo-po-fotohisi-pelikan-299/
CATEGORIES:Arhiv dogodkov
END:VEVENT
BEGIN:VEVENT
DTSTART;TZID=Europe/Ljubljana:20250923T120000
DTEND;TZID=Europe/Ljubljana:20250923T120000
DTSTAMP:20260421T104310
CREATED:20260224T170015Z
LAST-MODIFIED:20260225T090159Z
UID:10001594-1758628800-1758628800@www.muzej-nz-ce.si
SUMMARY:Javno vodstvo po Fotohiši Pelikan
DESCRIPTION:Javno vodstvo po Fotohiši Pelikan (do 10 oseb). \nPrijave na: info@mnzc.si in 03 428 64 28. \nVstopnina po ceniku (klik).
URL:https://www.muzej-nz-ce.si/dogodek/javno-vodstvo-po-fotohisi-pelikan-298/
CATEGORIES:Arhiv dogodkov
END:VEVENT
BEGIN:VEVENT
DTSTART;TZID=Europe/Ljubljana:20250923T090000
DTEND;TZID=Europe/Ljubljana:20250923T090000
DTSTAMP:20260421T104310
CREATED:20260224T170015Z
LAST-MODIFIED:20260225T090159Z
UID:10001593-1758618000-1758618000@www.muzej-nz-ce.si
SUMMARY:Moj dom
DESCRIPTION:Hermanova otroška ustvarjalnica ob razstavi Svet Hermanovih prijateljev. \nZa skupine\, predhodna najava. \nVstopnina 5 EUR (predšolski brezplačno) + ustvarjalnica 2 EUR na osebo.
URL:https://www.muzej-nz-ce.si/dogodek/moj-dom-10/
CATEGORIES:Arhiv dogodkov
END:VEVENT
BEGIN:VEVENT
DTSTART;TZID=Europe/Ljubljana:20250920T120000
DTEND;TZID=Europe/Ljubljana:20250920T120000
DTSTAMP:20260421T104310
CREATED:20260224T170015Z
LAST-MODIFIED:20260225T090159Z
UID:10001592-1758369600-1758369600@www.muzej-nz-ce.si
SUMMARY:Javno vodstvo po Fotohiši Pelikan
DESCRIPTION:Javno vodstvo po Fotohiši Pelikan (do 10 oseb). \nPrijave na: info@mnzc.si in 03 428 64 28. \nVstopnina po ceniku (klik).
URL:https://www.muzej-nz-ce.si/dogodek/javno-vodstvo-po-fotohisi-pelikan-297/
CATEGORIES:Arhiv dogodkov
END:VEVENT
BEGIN:VEVENT
DTSTART;TZID=Europe/Ljubljana:20250920T090000
DTEND;TZID=Europe/Ljubljana:20250920T090000
DTSTAMP:20260421T104310
CREATED:20260224T170014Z
LAST-MODIFIED:20260225T090159Z
UID:10001590-1758358800-1758358800@www.muzej-nz-ce.si
SUMMARY:Javno vodstvo po Fotohiši Pelikan
DESCRIPTION:Javno vodstvo po Fotohiši Pelikan (do 10 oseb). \nPrijave na: info@mnzc.si in 03 428 64 28. \nVstopnina po ceniku (klik).
URL:https://www.muzej-nz-ce.si/dogodek/javno-vodstvo-po-fotohisi-pelikan-295/
CATEGORIES:Arhiv dogodkov
END:VEVENT
BEGIN:VEVENT
DTSTART;TZID=Europe/Ljubljana:20250919T090000
DTEND;TZID=Europe/Ljubljana:20250919T090000
DTSTAMP:20260421T104310
CREATED:20260224T170010Z
LAST-MODIFIED:20260225T090159Z
UID:10001588-1758272400-1758272400@www.muzej-nz-ce.si
SUMMARY:Hi\, konjiček
DESCRIPTION:Hermanova otroška ustvarjalnica ob stalni razstavi v Otroškem muzeju Hermanov brlog. \nZa skupine\, predhodna najava. \nVstopnina 5 EUR (predšolski brezplačno) + ustvarjalnica 2 EUR na osebo.
URL:https://www.muzej-nz-ce.si/dogodek/hi-konjicek-4/
CATEGORIES:Arhiv dogodkov
END:VEVENT
BEGIN:VEVENT
DTSTART;TZID=Europe/Ljubljana:20250918T160000
DTEND;TZID=Europe/Ljubljana:20250918T160000
DTSTAMP:20260421T104310
CREATED:20260224T170014Z
LAST-MODIFIED:20260225T090159Z
UID:10001591-1758211200-1758211200@www.muzej-nz-ce.si
SUMMARY:Javno vodstvo po Fotohiši Pelikan
DESCRIPTION:Javno vodstvo po Fotohiši Pelikan (do 10 oseb). \nPrijave na: info@mnzc.si in 03 428 64 28. \nVstopnina po ceniku (klik).
URL:https://www.muzej-nz-ce.si/dogodek/javno-vodstvo-po-fotohisi-pelikan-296/
CATEGORIES:Arhiv dogodkov
END:VEVENT
BEGIN:VEVENT
DTSTART;TZID=Europe/Ljubljana:20250918T120000
DTEND;TZID=Europe/Ljubljana:20250918T120000
DTSTAMP:20260421T104310
CREATED:20260224T170010Z
LAST-MODIFIED:20260225T090159Z
UID:10001589-1758196800-1758196800@www.muzej-nz-ce.si
SUMMARY:Javno vodstvo po Fotohiši Pelikan
DESCRIPTION:Javno vodstvo po Fotohiši Pelikan (do 10 oseb). \nPrijave na: info@mnzc.si in 03 428 64 28. \nVstopnina po ceniku (klik).
URL:https://www.muzej-nz-ce.si/dogodek/javno-vodstvo-po-fotohisi-pelikan-294/
CATEGORIES:Arhiv dogodkov
END:VEVENT
BEGIN:VEVENT
DTSTART;TZID=Europe/Ljubljana:20250916T160000
DTEND;TZID=Europe/Ljubljana:20250916T160000
DTSTAMP:20260421T104310
CREATED:20260224T170010Z
LAST-MODIFIED:20260225T090159Z
UID:10001587-1758038400-1758038400@www.muzej-nz-ce.si
SUMMARY:Javno vodstvo po Fotohiši Pelikan
DESCRIPTION:Javno vodstvo po Fotohiši Pelikan (do 10 oseb). \nZaželene prijave na: info@mnzc.si in 03 428 64 28. \nVstopnina po ceniku (klik).
URL:https://www.muzej-nz-ce.si/dogodek/javno-vodstvo-po-fotohisi-pelikan-293/
CATEGORIES:Arhiv dogodkov
END:VEVENT
BEGIN:VEVENT
DTSTART;TZID=Europe/Ljubljana:20250916T120000
DTEND;TZID=Europe/Ljubljana:20250916T120000
DTSTAMP:20260421T104310
CREATED:20260224T170010Z
LAST-MODIFIED:20260225T090159Z
UID:10001586-1758024000-1758024000@www.muzej-nz-ce.si
SUMMARY:Javno vodstvo po Fotohiši Pelikan
DESCRIPTION:Javno vodstvo po Fotohiši Pelikan (do 10 oseb). \nZaželene prijave na: info@mnzc.si in 03 428 64 28. \nVstopnina po ceniku (klik).
URL:https://www.muzej-nz-ce.si/dogodek/javno-vodstvo-po-fotohisi-pelikan-292/
CATEGORIES:Arhiv dogodkov
END:VEVENT
BEGIN:VEVENT
DTSTART;TZID=Europe/Ljubljana:20250913T120000
DTEND;TZID=Europe/Ljubljana:20250913T120000
DTSTAMP:20260421T104310
CREATED:20260224T170010Z
LAST-MODIFIED:20260225T090159Z
UID:10001585-1757764800-1757764800@www.muzej-nz-ce.si
SUMMARY:Javno vodstvo po Fotohiši Pelikan
DESCRIPTION:Javno vodstvo po Fotohiši Pelikan (do 10 oseb). \nZaželene prijave na: info@mnzc.si in 03 428 64 28. \nVstopnina po ceniku (klik).
URL:https://www.muzej-nz-ce.si/dogodek/javno-vodstvo-po-fotohisi-pelikan-291/
CATEGORIES:Arhiv dogodkov
END:VEVENT
BEGIN:VEVENT
DTSTART;TZID=Europe/Ljubljana:20250909T120000
DTEND;TZID=Europe/Ljubljana:20250909T120000
DTSTAMP:20260421T104310
CREATED:20260224T165955Z
LAST-MODIFIED:20260225T090159Z
UID:10001579-1757419200-1757419200@www.muzej-nz-ce.si
SUMMARY:Javno vodstvo po Fotohiši Pelikan
DESCRIPTION:Javno vodstvo po Fotohiši Pelikan (do 10 oseb). \nZaželene prijave na: info@mnzc.si in 03 428 64 28. \nVstopnina po ceniku (klik).
URL:https://www.muzej-nz-ce.si/dogodek/javno-vodstvo-po-fotohisi-pelikan-290/
CATEGORIES:Arhiv dogodkov
END:VEVENT
BEGIN:VEVENT
DTSTART;TZID=Europe/Ljubljana:20250906T100000
DTEND;TZID=Europe/Ljubljana:20250906T100000
DTSTAMP:20260421T104310
CREATED:20260224T165955Z
LAST-MODIFIED:20260225T090159Z
UID:10001578-1757152800-1757152800@www.muzej-nz-ce.si
SUMMARY:Kreativna delavnica za ukrajinsko govoreče otroke
DESCRIPTION:V soboto 6. septembra 2025\, ob 10. uri v Otroškem muzeju Hermanov brlog pripravljamo za ukrajinsko govoreče otroke in njihove starše voden ogled in kreativno delavnico v ukrajinščini. Skupaj se bomo sprehodili skozi razstavo Svet Hermanovih prijateljev in v ustvarjalnici nekaj lepega tudi ustvarili. Ob koncu bo sledila še vesela igra v Hermanovi banki.Vstop brezplačen.\n\n\nУ суботу\, 6 вересня 2025 року\, о 10:00 в Дитячому музеї «Германова нора» ми організовуємо екскурсію та творчу майстерню українською мовою для дітей\, які розмовляють українською\, та їхніх батьків. Разом ми пройдемося виставкою «Світ Германових друзів» і створимо щось гарне в творчій майстерні. Наприкінці на вас чекатиме весела гра в «Германовому банку».Вхід вільний.
URL:https://www.muzej-nz-ce.si/dogodek/kreativna-delavnica-za-ukrajinsko-govorece-otroke/
CATEGORIES:Arhiv dogodkov
END:VEVENT
BEGIN:VEVENT
DTSTART;TZID=Europe/Ljubljana:20250904T180000
DTEND;TZID=Europe/Ljubljana:20250904T180000
DTSTAMP:20260421T104310
CREATED:20260224T165955Z
LAST-MODIFIED:20260225T090159Z
UID:10001577-1757008800-1757008800@www.muzej-nz-ce.si
SUMMARY:Buči\, buči morje Adrijansko
DESCRIPTION:Muzej novejše zgodovine in Občina Šentjur vas \nv četrtek\, 4. septembra 2025\, ob 18. uri \nvabita v prostore Galerije Zgornji trg Šentjur \nna odprtje gostujoče razstave \nBUČI\, BUČI MORJE ADRIJANSKO \nPrimorski Slovenci na Celjskem po letu 1918. 
URL:https://www.muzej-nz-ce.si/dogodek/buci-buci-morje-adrijansko-2/
CATEGORIES:Arhiv dogodkov
END:VEVENT
BEGIN:VEVENT
DTSTART;TZID=Europe/Ljubljana:20250830T120000
DTEND;TZID=Europe/Ljubljana:20250830T120000
DTSTAMP:20260421T104310
CREATED:20260224T165955Z
LAST-MODIFIED:20260225T090159Z
UID:10001576-1756555200-1756555200@www.muzej-nz-ce.si
SUMMARY:Javno vodstvo po Fotohiši Pelikan
DESCRIPTION:Javno vodstvo po Fotohiši Pelikan (do 10 oseb).\nZaželene prijave na: info@mnzc.si in 03 428 64 28.\nVstopnina po ceniku (klik).
URL:https://www.muzej-nz-ce.si/dogodek/javno-vodstvo-po-fotohisi-pelikan-289/
CATEGORIES:Arhiv dogodkov
END:VEVENT
BEGIN:VEVENT
DTSTART;TZID=Europe/Ljubljana:20250830T090000
DTEND;TZID=Europe/Ljubljana:20250830T090000
DTSTAMP:20260421T104310
CREATED:20260224T165955Z
LAST-MODIFIED:20260225T090159Z
UID:10001575-1756544400-1756544400@www.muzej-nz-ce.si
SUMMARY:Javno vodstvo po Fotohiši Pelikan
DESCRIPTION:Javno vodstvo po Fotohiši Pelikan (do 10 oseb).\nZaželene prijave na: info@mnzc.si in 03 428 64 28.\nVstopnina po ceniku (klik).
URL:https://www.muzej-nz-ce.si/dogodek/javno-vodstvo-po-fotohisi-pelikan-288/
CATEGORIES:Arhiv dogodkov
END:VEVENT
BEGIN:VEVENT
DTSTART;TZID=Europe/Ljubljana:20250823T090000
DTEND;TZID=Europe/Ljubljana:20250823T090000
DTSTAMP:20260421T104310
CREATED:20260224T165940Z
LAST-MODIFIED:20260225T090159Z
UID:10001569-1755939600-1755939600@www.muzej-nz-ce.si
SUMMARY:Javno vodstvo po Fotohiši Pelikan
DESCRIPTION:Javno vodstvo po Fotohiši Pelikan (do 10 oseb).\nZaželene prijave na: info@mnzc.si in 03 428 64 28.\nVstopnina po ceniku (klik).
URL:https://www.muzej-nz-ce.si/dogodek/javno-vodstvo-po-fotohisi-pelikan-287/
CATEGORIES:Arhiv dogodkov
END:VEVENT
BEGIN:VEVENT
DTSTART;TZID=Europe/Ljubljana:20250821T160000
DTEND;TZID=Europe/Ljubljana:20250821T160000
DTSTAMP:20260421T104310
CREATED:20260224T165940Z
LAST-MODIFIED:20260225T090159Z
UID:10001568-1755792000-1755792000@www.muzej-nz-ce.si
SUMMARY:Javno vodstvo po Fotohiši Pelikan
DESCRIPTION:Javno vodstvo po Fotohiši Pelikan (do 10 oseb).\nZaželene prijave na: info@mnzc.si in 03 428 64 28.\nVstopnina po ceniku (klik).
URL:https://www.muzej-nz-ce.si/dogodek/javno-vodstvo-po-fotohisi-pelikan-286/
CATEGORIES:Arhiv dogodkov
END:VEVENT
BEGIN:VEVENT
DTSTART;TZID=Europe/Ljubljana:20250821T120000
DTEND;TZID=Europe/Ljubljana:20250821T120000
DTSTAMP:20260421T104310
CREATED:20260224T165939Z
LAST-MODIFIED:20260225T090159Z
UID:10001567-1755777600-1755777600@www.muzej-nz-ce.si
SUMMARY:Javno vodstvo po Fotohiši Pelikan
DESCRIPTION:Javno vodstvo po Fotohiši Pelikan (do 10 oseb).\nZaželene prijave na: info@mnzc.si in 03 428 64 28.\nVstopnina po ceniku (klik).
URL:https://www.muzej-nz-ce.si/dogodek/javno-vodstvo-po-fotohisi-pelikan-285/
CATEGORIES:Arhiv dogodkov
END:VEVENT
BEGIN:VEVENT
DTSTART;TZID=Europe/Ljubljana:20250821T100000
DTEND;TZID=Europe/Ljubljana:20250821T100000
DTSTAMP:20260421T104310
CREATED:20260224T165939Z
LAST-MODIFIED:20260225T090159Z
UID:10001566-1755770400-1755770400@www.muzej-nz-ce.si
SUMMARY:Moj dom
DESCRIPTION:Počitniško ustvarjalno druženje v Hermanovem brlogu ob delavnici Moj dom. \nOb občasni razstavi Svet Hermanovih prijateljev. \nZa otroke\, vstopnina po ceniku (klik) + ustvarjalna delavnica 2\,00 EUR.
URL:https://www.muzej-nz-ce.si/dogodek/moj-dom-9/
CATEGORIES:Arhiv dogodkov
END:VEVENT
BEGIN:VEVENT
DTSTART;TZID=Europe/Ljubljana:20250819T120000
DTEND;TZID=Europe/Ljubljana:20250819T120000
DTSTAMP:20260421T104310
CREATED:20260224T165939Z
LAST-MODIFIED:20260225T090159Z
UID:10001565-1755604800-1755604800@www.muzej-nz-ce.si
SUMMARY:Javno vodstvo po Fotohiši Pelikan
DESCRIPTION:Javno vodstvo po Fotohiši Pelikan (do 10 oseb).\nZaželene prijave na: info@mnzc.si in 03 428 64 28.\nVstopnina po ceniku (klik).
URL:https://www.muzej-nz-ce.si/dogodek/javno-vodstvo-po-fotohisi-pelikan-284/
CATEGORIES:Arhiv dogodkov
END:VEVENT
BEGIN:VEVENT
DTSTART;TZID=Europe/Ljubljana:20250814T120000
DTEND;TZID=Europe/Ljubljana:20250814T120000
DTSTAMP:20260421T104310
CREATED:20260224T165925Z
LAST-MODIFIED:20260225T090159Z
UID:10001559-1755172800-1755172800@www.muzej-nz-ce.si
SUMMARY:Javno vodstvo po Fotohiši Pelikan
DESCRIPTION:Javno vodstvo po Fotohiši Pelikan (do 10 oseb).\nZaželene prijave na: info@mnzc.si in 03 428 64 28.\nVstopnina po ceniku (klik).
URL:https://www.muzej-nz-ce.si/dogodek/javno-vodstvo-po-fotohisi-pelikan-283/
CATEGORIES:Arhiv dogodkov
END:VEVENT
BEGIN:VEVENT
DTSTART;TZID=Europe/Ljubljana:20250814T100000
DTEND;TZID=Europe/Ljubljana:20250814T100000
DTSTAMP:20260421T104310
CREATED:20260224T165925Z
LAST-MODIFIED:20260225T090159Z
UID:10001558-1755165600-1755165600@www.muzej-nz-ce.si
SUMMARY:Ročna lutka
DESCRIPTION:Počitniško ustvarjalno druženje v Hermanovem brlogu ob izdelovanju ročnih lutk. \nOb občasni razstavi Svet Hermanovih prijateljev. \nZa otroke\, vstopnina po ceniku (klik) + ustvarjalna delavnica 2\,00 EUR.
URL:https://www.muzej-nz-ce.si/dogodek/rocna-lutka/
CATEGORIES:Arhiv dogodkov
END:VEVENT
BEGIN:VEVENT
DTSTART;TZID=Europe/Ljubljana:20250812T160000
DTEND;TZID=Europe/Ljubljana:20250812T160000
DTSTAMP:20260421T104310
CREATED:20260224T165924Z
LAST-MODIFIED:20260225T090159Z
UID:10001557-1755014400-1755014400@www.muzej-nz-ce.si
SUMMARY:Javno vodstvo po Fotohiši Pelikan
DESCRIPTION:Javno vodstvo po Fotohiši Pelikan (do 10 oseb).\nZaželene prijave na: info@mnzc.si in 03 428 64 28.\nVstopnina po ceniku (klik).
URL:https://www.muzej-nz-ce.si/dogodek/javno-vodstvo-po-fotohisi-pelikan-282/
CATEGORIES:Arhiv dogodkov
END:VEVENT
BEGIN:VEVENT
DTSTART;TZID=Europe/Ljubljana:20250812T120000
DTEND;TZID=Europe/Ljubljana:20250812T120000
DTSTAMP:20260421T104310
CREATED:20260224T165924Z
LAST-MODIFIED:20260225T090159Z
UID:10001556-1755000000-1755000000@www.muzej-nz-ce.si
SUMMARY:Javno vodstvo po Fotohiši Pelikan
DESCRIPTION:Javno vodstvo po Fotohiši Pelikan (do 10 oseb).\nZaželene prijave na: info@mnzc.si in 03 428 64 28.\nVstopnina po ceniku (klik).
URL:https://www.muzej-nz-ce.si/dogodek/javno-vodstvo-po-fotohisi-pelikan-281/
CATEGORIES:Arhiv dogodkov
END:VEVENT
BEGIN:VEVENT
DTSTART;TZID=Europe/Ljubljana:20250809T120000
DTEND;TZID=Europe/Ljubljana:20250809T120000
DTSTAMP:20260421T104310
CREATED:20260224T165924Z
LAST-MODIFIED:20260225T090159Z
UID:10001555-1754740800-1754740800@www.muzej-nz-ce.si
SUMMARY:Javno vodstvo po Fotohiši Pelikan
DESCRIPTION:Javno vodstvo po Fotohiši Pelikan (do 10 oseb).\nZaželene prijave na: info@mnzc.si in 03 428 64 28.\nVstopnina po ceniku (klik).
URL:https://www.muzej-nz-ce.si/dogodek/javno-vodstvo-po-fotohisi-pelikan-280/
CATEGORIES:Arhiv dogodkov
END:VEVENT
BEGIN:VEVENT
DTSTART;TZID=Europe/Ljubljana:20250807T120000
DTEND;TZID=Europe/Ljubljana:20250807T120000
DTSTAMP:20260421T104310
CREATED:20260224T165915Z
LAST-MODIFIED:20260225T090159Z
UID:10001549-1754568000-1754568000@www.muzej-nz-ce.si
SUMMARY:Javno vodstvo po Fotohiši Pelikan
DESCRIPTION:Javno vodstvo po Fotohiši Pelikan (do 10 oseb).\nZaželene prijave na: info@mnzc.si in 03 428 64 28.\nVstopnina po ceniku (klik).
URL:https://www.muzej-nz-ce.si/dogodek/javno-vodstvo-po-fotohisi-pelikan-279/
CATEGORIES:Arhiv dogodkov
END:VEVENT
END:VCALENDAR