BEGIN:VCALENDAR
VERSION:2.0
PRODID:-//Muzej novejše zgodovine Celje - ECPv6.15.16//NONSGML v1.0//EN
CALSCALE:GREGORIAN
METHOD:PUBLISH
X-WR-CALNAME:Muzej novejše zgodovine Celje
X-ORIGINAL-URL:https://www.muzej-nz-ce.si
X-WR-CALDESC:Dogodki za Muzej novejše zgodovine Celje
REFRESH-INTERVAL;VALUE=DURATION:PT1H
X-Robots-Tag:noindex
X-PUBLISHED-TTL:PT1H
BEGIN:VTIMEZONE
TZID:Europe/Ljubljana
BEGIN:DAYLIGHT
TZOFFSETFROM:+0100
TZOFFSETTO:+0200
TZNAME:CEST
DTSTART:20240331T010000
END:DAYLIGHT
BEGIN:STANDARD
TZOFFSETFROM:+0200
TZOFFSETTO:+0100
TZNAME:CET
DTSTART:20241027T010000
END:STANDARD
BEGIN:DAYLIGHT
TZOFFSETFROM:+0100
TZOFFSETTO:+0200
TZNAME:CEST
DTSTART:20250330T010000
END:DAYLIGHT
BEGIN:STANDARD
TZOFFSETFROM:+0200
TZOFFSETTO:+0100
TZNAME:CET
DTSTART:20251026T010000
END:STANDARD
BEGIN:DAYLIGHT
TZOFFSETFROM:+0100
TZOFFSETTO:+0200
TZNAME:CEST
DTSTART:20260329T010000
END:DAYLIGHT
BEGIN:STANDARD
TZOFFSETFROM:+0200
TZOFFSETTO:+0100
TZNAME:CET
DTSTART:20261025T010000
END:STANDARD
BEGIN:DAYLIGHT
TZOFFSETFROM:+0100
TZOFFSETTO:+0200
TZNAME:CEST
DTSTART:20270328T010000
END:DAYLIGHT
BEGIN:STANDARD
TZOFFSETFROM:+0200
TZOFFSETTO:+0100
TZNAME:CET
DTSTART:20271031T010000
END:STANDARD
END:VTIMEZONE
BEGIN:VEVENT
DTSTART;TZID=Europe/Ljubljana:20260417T090000
DTEND;TZID=Europe/Ljubljana:20260417T100000
DTSTAMP:20260421T120638
CREATED:20260401T135015Z
LAST-MODIFIED:20260401T135317Z
UID:10001820-1776416400-1776420000@www.muzej-nz-ce.si
SUMMARY:Moj dom
DESCRIPTION:Moj dom  \nHermanova otroška ustvarjalna delavnica ob občasni razstavi Svet Hermanovih prijateljev.  \nZa skupine\, predhodna najava.  \nVstopnina po ceniku (klik).
URL:https://www.muzej-nz-ce.si/dogodek/moj-dom-12/
LOCATION:Otroški muzej Hermanov brlog\, Prešernova ulica 17\, 3000 Celje\, Slovenia
CATEGORIES:Arhiv dogodkov,Dogodek
ATTACH;FMTTYPE=image/jpeg:https://www.muzej-nz-ce.si/wp-content/uploads/2025/06/6_2_2025_Moj-dom.jpg
END:VEVENT
BEGIN:VEVENT
DTSTART;TZID=Europe/Ljubljana:20260411T100000
DTEND;TZID=Europe/Ljubljana:20260411T110000
DTSTAMP:20260421T120638
CREATED:20260401T141723Z
LAST-MODIFIED:20260401T142826Z
UID:10001830-1775901600-1775905200@www.muzej-nz-ce.si
SUMMARY:Vse najboljše\, naše mesto!
DESCRIPTION:Vse najboljše\, naše mesto! \nHermanova otroška ustvarjalnica ob prazniku Mestne občine Celje. \nZa posameznike in družine \nVstopnina po ceniku (klik).
URL:https://www.muzej-nz-ce.si/dogodek/vse-najboljse-nase-mesto/
LOCATION:Otroški muzej Hermanov brlog\, Prešernova ulica 17\, 3000 Celje\, Slovenia
CATEGORIES:Arhiv dogodkov,Dogodek
ATTACH;FMTTYPE=image/jpeg:https://www.muzej-nz-ce.si/wp-content/uploads/2026/04/2026_04_11_10.00_Vse-najboljse.-nase-mesto.jpg
END:VEVENT
BEGIN:VEVENT
DTSTART;TZID=Europe/Ljubljana:20260410T090000
DTEND;TZID=Europe/Ljubljana:20260410T100000
DTSTAMP:20260421T120638
CREATED:20260401T134843Z
LAST-MODIFIED:20260401T135349Z
UID:10001819-1775811600-1775815200@www.muzej-nz-ce.si
SUMMARY:Družina je vrednota
DESCRIPTION:Družina je vrednota  \nHermanova otroška ustvarjalna delavnica ob občasni razstavi Svet Hermanovih prijateljev.  \nZa skupine\, predhodna najava.  \nVstopnina po ceniku (klik).
URL:https://www.muzej-nz-ce.si/dogodek/druzina-je-vrednota-9/
LOCATION:Otroški muzej Hermanov brlog\, Prešernova ulica 17\, 3000 Celje\, Slovenia
CATEGORIES:Arhiv dogodkov,Dogodek
ATTACH;FMTTYPE=image/jpeg:https://www.muzej-nz-ce.si/wp-content/uploads/2025/01/11_2_2025_Družina-je-vrednota.jpg
END:VEVENT
BEGIN:VEVENT
DTSTART;TZID=Europe/Ljubljana:20260408T090000
DTEND;TZID=Europe/Ljubljana:20260408T100000
DTSTAMP:20260421T120638
CREATED:20260401T134705Z
LAST-MODIFIED:20260401T135416Z
UID:10001818-1775638800-1775642400@www.muzej-nz-ce.si
SUMMARY:To sem jaz
DESCRIPTION:To sem jaz  \nHermanova otroška ustvarjalna delavnica ob občasni razstavi Svet Hermanovih prijateljev.  \nZa skupine\, predhodna najava.  \nVstopnina po ceniku (klik).
URL:https://www.muzej-nz-ce.si/dogodek/to-sem-jaz-9/
LOCATION:Otroški muzej Hermanov brlog\, Prešernova ulica 17\, 3000 Celje\, Slovenia
CATEGORIES:Arhiv dogodkov,Dogodek
ATTACH;FMTTYPE=image/jpeg:https://www.muzej-nz-ce.si/wp-content/uploads/2026/04/2026_04_08_09.00_To-sem-jaz.jpg
END:VEVENT
BEGIN:VEVENT
DTSTART;TZID=Europe/Ljubljana:20260403T090000
DTEND;TZID=Europe/Ljubljana:20260403T100000
DTSTAMP:20260421T120638
CREATED:20260401T134532Z
LAST-MODIFIED:20260401T135447Z
UID:10001817-1775206800-1775210400@www.muzej-nz-ce.si
SUMMARY:Pod Hermanovim dežnikom
DESCRIPTION:Pod Hermanovim dežnikom  \nHermanova otroška ustvarjalna delavnica ob občasni razstavi Svet Hermanovih prijateljev  \nZa skupine\, predhodna najava.  \nVstopnina po ceniku (klik).
URL:https://www.muzej-nz-ce.si/dogodek/pod-hermanovim-deznikom-5/
LOCATION:Otroški muzej Hermanov brlog\, Prešernova ulica 17\, 3000 Celje\, Slovenia
CATEGORIES:Arhiv dogodkov,Dogodek
ATTACH;FMTTYPE=image/jpeg:https://www.muzej-nz-ce.si/wp-content/uploads/2026/02/2026_03_18_09.00_Pod-Hermanovim-deznikom.jpg
END:VEVENT
BEGIN:VEVENT
DTSTART;TZID=Europe/Ljubljana:20260402T160000
DTEND;TZID=Europe/Ljubljana:20260402T170000
DTSTAMP:20260421T120638
CREATED:20260401T133227Z
LAST-MODIFIED:20260401T133227Z
UID:10001815-1775145600-1775149200@www.muzej-nz-ce.si
SUMMARY:Izmenjevalnica otroških knjig\, slikanic\, stripov in revij
DESCRIPTION:Vsak udeleženec dogodka bo prejel knjižno darilce. \nVstopnina je brezplačna. 
URL:https://www.muzej-nz-ce.si/dogodek/izmenjevalnica-otroskih-knjig-slikanic-stripov-in-revij/
LOCATION:Otroški muzej Hermanov brlog\, Prešernova ulica 17\, 3000 Celje\, Slovenia
CATEGORIES:Arhiv dogodkov,Dogodek
ATTACH;FMTTYPE=image/jpeg:https://www.muzej-nz-ce.si/wp-content/uploads/2026/04/2026_04_02_16.00_Izmenjevalnica-otroskih-knjig.jpg
END:VEVENT
BEGIN:VEVENT
DTSTART;TZID=Europe/Ljubljana:20260402T090000
DTEND;TZID=Europe/Ljubljana:20260402T170000
DTSTAMP:20260421T120638
CREATED:20260401T082207Z
LAST-MODIFIED:20260401T082347Z
UID:10001788-1775120400-1775149200@www.muzej-nz-ce.si
SUMMARY:Mednarodni dan knjig za otroke
DESCRIPTION:Vabljeni v Otroški muzej Hermanov brlog\, kjer boste lahko brali\, občudovali ilustracije in listali knjige\, ki jih hrani Herman Lisjak.  \nVstopnina po ceniku (klik).
URL:https://www.muzej-nz-ce.si/dogodek/mednarodni-dan-knjig-za-otroke-2/
LOCATION:Otroški muzej Hermanov brlog\, Prešernova ulica 17\, 3000 Celje\, Slovenia
CATEGORIES:Arhiv dogodkov,Dogodek
ATTACH;FMTTYPE=image/jpeg:https://www.muzej-nz-ce.si/wp-content/uploads/2026/04/2026_04_02_09.00_Mednarodni-dan-knjig-za-otroke.jpg
END:VEVENT
BEGIN:VEVENT
DTSTART;TZID=Europe/Ljubljana:20260325T160000
DTEND;TZID=Europe/Ljubljana:20260325T170000
DTSTAMP:20260421T120638
CREATED:20260228T094459Z
LAST-MODIFIED:20260228T094459Z
UID:10001776-1774454400-1774458000@www.muzej-nz-ce.si
SUMMARY:Rože za mamico
DESCRIPTION:Rože za mamico. \nHermanova otroška ustvarjalna delavnica ob materinskem dnevu \nZa posameznike in družine.  \nVstopnina po ceniku (klik).
URL:https://www.muzej-nz-ce.si/dogodek/roze-za-mamico/
LOCATION:Otroški muzej Hermanov brlog\, Prešernova ulica 17\, 3000 Celje\, Slovenia
CATEGORIES:Dogodek
ATTACH;FMTTYPE=image/jpeg:https://www.muzej-nz-ce.si/wp-content/uploads/2026/02/2026_03_25_16.00_Roze-za-mamo.jpg
END:VEVENT
BEGIN:VEVENT
DTSTART;TZID=Europe/Ljubljana:20260325T090000
DTEND;TZID=Europe/Ljubljana:20260325T100000
DTSTAMP:20260421T120638
CREATED:20260228T094552Z
LAST-MODIFIED:20260228T094552Z
UID:10001777-1774429200-1774432800@www.muzej-nz-ce.si
SUMMARY:Rože za mamico
DESCRIPTION:Rože za mamico. \nHermanova otroška ustvarjalna delavnica ob materinskem dnevu \nZa skupine\, predhodna najava. \nVstopnina po ceniku (klik).
URL:https://www.muzej-nz-ce.si/dogodek/roze-za-mamico-2/
LOCATION:Otroški muzej Hermanov brlog\, Prešernova ulica 17\, 3000 Celje\, Slovenia
CATEGORIES:Dogodek
ATTACH;FMTTYPE=image/jpeg:https://www.muzej-nz-ce.si/wp-content/uploads/2026/02/2026_03_25_16.00_Roze-za-mamo.jpg
END:VEVENT
BEGIN:VEVENT
DTSTART;TZID=Europe/Ljubljana:20260322T160000
DTEND;TZID=Europe/Ljubljana:20260322T170000
DTSTAMP:20260421T120638
CREATED:20260228T093528Z
LAST-MODIFIED:20260322T134253Z
UID:10001773-1774195200-1774198800@www.muzej-nz-ce.si
SUMMARY:Hi\, konjiček
DESCRIPTION:Hi\, konjiček.  \nHermanova otroška ustvarjalna delavnica ob razstavi Brlog igrač. \nZa posameznike in družine \nVstopnina po ceniku (klik).
URL:https://www.muzej-nz-ce.si/dogodek/hi-konjicek-6/
LOCATION:Otroški muzej Hermanov brlog\, Prešernova ulica 17\, 3000 Celje\, Slovenia
CATEGORIES:Dogodek
ATTACH;FMTTYPE=image/jpeg:https://www.muzej-nz-ce.si/wp-content/uploads/2026/02/hi-konjicek.jpg
END:VEVENT
BEGIN:VEVENT
DTSTART;TZID=Europe/Ljubljana:20260321T110000
DTEND;TZID=Europe/Ljubljana:20260321T120000
DTSTAMP:20260421T120638
CREATED:20260228T095432Z
LAST-MODIFIED:20260228T095432Z
UID:10001781-1774090800-1774094400@www.muzej-nz-ce.si
SUMMARY:Mehurčki
DESCRIPTION:Mehurčki. \nNa Hermanovem odru. \nIzvedba: Gledališče Bičikleta. \nNakup vstopnic v informacijski pisarni muzeja od 17. 3. 2026. \nCena: 6\,00€. \nZeleni abonma in izven
URL:https://www.muzej-nz-ce.si/dogodek/mehurcki-2/
LOCATION:Otroški muzej Hermanov brlog\, Prešernova ulica 17\, 3000 Celje\, Slovenia
CATEGORIES:Dogodek
ATTACH;FMTTYPE=:
END:VEVENT
BEGIN:VEVENT
DTSTART;TZID=Europe/Ljubljana:20260321T100000
DTEND;TZID=Europe/Ljubljana:20260321T110000
DTSTAMP:20260421T120638
CREATED:20260228T095401Z
LAST-MODIFIED:20260228T095501Z
UID:10001780-1774087200-1774090800@www.muzej-nz-ce.si
SUMMARY:Mehurčki
DESCRIPTION:Mehurčki. \nNa Hermanovem odru. \nIzvedba: Gledališče Bičikleta. \nNakup vstopnic v informacijski pisarni muzeja od 17. 3. 2026. \nCena: 6\,00€. \nRumeni abonma in izven
URL:https://www.muzej-nz-ce.si/dogodek/mehurcki/
LOCATION:Otroški muzej Hermanov brlog\, Prešernova ulica 17\, 3000 Celje\, Slovenia
CATEGORIES:Dogodek
ATTACH;FMTTYPE=:
END:VEVENT
BEGIN:VEVENT
DTSTART;TZID=Europe/Ljubljana:20260320T090000
DTEND;TZID=Europe/Ljubljana:20260320T100000
DTSTAMP:20260421T120638
CREATED:20260228T093209Z
LAST-MODIFIED:20260228T094114Z
UID:10001774-1773997200-1774000800@www.muzej-nz-ce.si
SUMMARY:Vrtiljak čustev
DESCRIPTION:Vrtiljak čustev. \nHermanova otroška ustvarjalna delavnica ob razstavi Svet Hermanovih prijateljev. \nZa skupine\, predhodna najava. \nVstopnina po ceniku (klik).
URL:https://www.muzej-nz-ce.si/dogodek/vrtiljak-custev-7/
LOCATION:Otroški muzej Hermanov brlog\, Prešernova ulica 17\, 3000 Celje\, Slovenia
CATEGORIES:Dogodek
ATTACH;FMTTYPE=image/jpeg:https://www.muzej-nz-ce.si/wp-content/uploads/2026/02/2026_03_13_09.00_Vrtiljak-custev.jpg
END:VEVENT
BEGIN:VEVENT
DTSTART;TZID=Europe/Ljubljana:20260318T090000
DTEND;TZID=Europe/Ljubljana:20260318T100000
DTSTAMP:20260421T120638
CREATED:20260228T093131Z
LAST-MODIFIED:20260228T094056Z
UID:10001772-1773824400-1773828000@www.muzej-nz-ce.si
SUMMARY:Pod Hermanovim dežnikom
DESCRIPTION:Pod Hermanovim dežnikom. \nHermanova otroška ustvarjalna delavnica ob razstavi Svet Hermanovih prijateljev. \nZa skupine\, predhodna najava. \nVstopnina po ceniku (klik).
URL:https://www.muzej-nz-ce.si/dogodek/pod-hermanovim-deznikom-4/
LOCATION:Otroški muzej Hermanov brlog\, Prešernova ulica 17\, 3000 Celje\, Slovenia
CATEGORIES:Dogodek
ATTACH;FMTTYPE=image/jpeg:https://www.muzej-nz-ce.si/wp-content/uploads/2026/02/2026_03_18_09.00_Pod-Hermanovim-deznikom-1.jpg
END:VEVENT
BEGIN:VEVENT
DTSTART;TZID=Europe/Ljubljana:20260313T090000
DTEND;TZID=Europe/Ljubljana:20260313T100000
DTSTAMP:20260421T120638
CREATED:20260228T093013Z
LAST-MODIFIED:20260228T094037Z
UID:10001771-1773392400-1773396000@www.muzej-nz-ce.si
SUMMARY:Vrtiljak čustev
DESCRIPTION:Vrtiljak čustev. \nHermanova otroška ustvarjalna delavnica ob razstavi Svet Hermanovih prijateljev. \nZa skupine\, predhodna najava. \nVstopnina po ceniku (klik).
URL:https://www.muzej-nz-ce.si/dogodek/vrtiljak-custev-6/
LOCATION:Otroški muzej Hermanov brlog\, Prešernova ulica 17\, 3000 Celje\, Slovenia
CATEGORIES:Dogodek
ATTACH;FMTTYPE=image/jpeg:https://www.muzej-nz-ce.si/wp-content/uploads/2026/02/2026_03_13_09.00_Vrtiljak-custev.jpg
END:VEVENT
BEGIN:VEVENT
DTSTART;TZID=Europe/Ljubljana:20260311T090000
DTEND;TZID=Europe/Ljubljana:20260311T100000
DTSTAMP:20260421T120638
CREATED:20260228T092919Z
LAST-MODIFIED:20260228T094019Z
UID:10001770-1773219600-1773223200@www.muzej-nz-ce.si
SUMMARY:Moj dom
DESCRIPTION:Moj dom. \nHermanova otroška ustvarjalna delavnica ob razstavi Svet Hermanovih prijateljev. \nZa skupine\, predhodna najava. \nVstopnina po ceniku (klik).
URL:https://www.muzej-nz-ce.si/dogodek/moj-dom-11/
LOCATION:Otroški muzej Hermanov brlog\, Prešernova ulica 17\, 3000 Celje\, Slovenia
CATEGORIES:Dogodek
ATTACH;FMTTYPE=image/jpeg:https://www.muzej-nz-ce.si/wp-content/uploads/2025/11/2025_05_30_09.00_Moj-ljubi-dom.jpg
END:VEVENT
BEGIN:VEVENT
DTSTART;TZID=Europe/Ljubljana:20260306T090000
DTEND;TZID=Europe/Ljubljana:20260306T100000
DTSTAMP:20260421T120638
CREATED:20260228T092825Z
LAST-MODIFIED:20260228T093957Z
UID:10001769-1772787600-1772791200@www.muzej-nz-ce.si
SUMMARY:Družina je vrednota
DESCRIPTION:Družina je vrednota.  \nHermanova otroška ustvarjalna delavnica ob razstavi Svet Hermanovih prijateljev. \nZa skupine\, predhodna najava. \nVstopnina po ceniku (klik).
URL:https://www.muzej-nz-ce.si/dogodek/svet-hermanovih-prijateljev-10/
LOCATION:Otroški muzej Hermanov brlog\, Prešernova ulica 17\, 3000 Celje\, Slovenia
CATEGORIES:Dogodek
ATTACH;FMTTYPE=image/jpeg:https://www.muzej-nz-ce.si/wp-content/uploads/2025/06/11_2_2025_Druzina-je-vrednota.jpg
END:VEVENT
BEGIN:VEVENT
DTSTART;TZID=Europe/Ljubljana:20260304T090000
DTEND;TZID=Europe/Ljubljana:20260304T100000
DTSTAMP:20260421T120638
CREATED:20260228T092714Z
LAST-MODIFIED:20260228T093916Z
UID:10001768-1772614800-1772618400@www.muzej-nz-ce.si
SUMMARY:Svet Hermanovih prijateljev
DESCRIPTION:Svet Hermanovih prijateljev\, izdelava družabne igre. \nHermanova otroška ustvarjalna delavnica ob razstavi Svet Hermanovih prijateljev. \nZa skupine\, predhodna najava. \nVstopnina po ceniku (klik).
URL:https://www.muzej-nz-ce.si/dogodek/svet-hermanovih-prijateljev-9/
LOCATION:Otroški muzej Hermanov brlog\, Prešernova ulica 17\, 3000 Celje\, Slovenia
CATEGORIES:Dogodek
ATTACH;FMTTYPE=:
END:VEVENT
BEGIN:VEVENT
DTSTART;TZID=Europe/Ljubljana:20260227T100000
DTEND;TZID=Europe/Ljubljana:20260227T120000
DTSTAMP:20260421T120638
CREATED:20260214T122941Z
LAST-MODIFIED:20260214T122941Z
UID:10000044-1772186400-1772193600@www.muzej-nz-ce.si
SUMMARY:Hi\, konjiček
DESCRIPTION:Počitniško druženje in Hermanova otroška ustvarjalna delavnica ob stalni razstavi v Otroškem muzeju Hermanov brlog. \nVstopnina 5 EUR (predšolski brezplačno) + ustvarjalna delavnica 2 EUR na osebo.
URL:https://www.muzej-nz-ce.si/dogodek/hi-konjicek/
LOCATION:Otroški muzej Hermanov brlog\, Prešernova ulica 17\, 3000 Celje\, Slovenia
CATEGORIES:Dogodek
ATTACH;FMTTYPE=:
END:VEVENT
BEGIN:VEVENT
DTSTART;TZID=Europe/Ljubljana:20260226T100000
DTEND;TZID=Europe/Ljubljana:20260226T120000
DTSTAMP:20260421T120638
CREATED:20260214T123422Z
LAST-MODIFIED:20260214T123422Z
UID:10000047-1772100000-1772107200@www.muzej-nz-ce.si
SUMMARY:Vrtiljak čustev
DESCRIPTION:Počitniško druženje in Hermanova otroška ustvarjalna delavnica ob stalni razstavi v Otroškem muzeju Hermanov brlog. \nVstopnina 5 EUR (predšolski brezplačno) + ustvarjalna delavnica 2 EUR na osebo.
URL:https://www.muzej-nz-ce.si/dogodek/vrtiljak-custev/
LOCATION:Otroški muzej Hermanov brlog\, Prešernova ulica 17\, 3000 Celje\, Slovenia
CATEGORIES:Dogodek
ATTACH;FMTTYPE=:
END:VEVENT
BEGIN:VEVENT
DTSTART;TZID=Europe/Ljubljana:20260225T100000
DTEND;TZID=Europe/Ljubljana:20260225T120000
DTSTAMP:20260421T120638
CREATED:20260214T123528Z
LAST-MODIFIED:20260214T123528Z
UID:10000048-1772013600-1772020800@www.muzej-nz-ce.si
SUMMARY:Svet Hermanovih prijateljev
DESCRIPTION:Počitniško druženje in vodeni ogled z raziskovanjem ter igro po razstavi Svet Hermanovih prijateljev \nVstopnina 5 EUR (predšolski brezplačno).
URL:https://www.muzej-nz-ce.si/dogodek/svet-hermanovih-prijateljev-3/
LOCATION:Otroški muzej Hermanov brlog\, Prešernova ulica 17\, 3000 Celje\, Slovenia
CATEGORIES:Dogodek
ATTACH;FMTTYPE=:
END:VEVENT
BEGIN:VEVENT
DTSTART;TZID=Europe/Ljubljana:20251128T090000
DTEND;TZID=Europe/Ljubljana:20251128T110000
DTSTAMP:20260421T120638
CREATED:20251124T085511Z
LAST-MODIFIED:20251124T085511Z
UID:10000018-1764320400-1764327600@www.muzej-nz-ce.si
SUMMARY:Ljubi dom
DESCRIPTION:Hermanova otroška ustvarjalnica ob razstavi Svet Hermanovih prijateljev. \nZa skupine\, predhodna najava. \nVstopnina 5 EUR (predšolski brezplačno) + ustvarjalnica 2 EUR na osebo.
URL:https://www.muzej-nz-ce.si/dogodek/ljubi-dom/
LOCATION:Otroški muzej Hermanov brlog\, Prešernova ulica 17\, 3000 Celje\, Slovenia
CATEGORIES:Dogodek
ATTACH;FMTTYPE=image/jpeg:https://www.muzej-nz-ce.si/wp-content/uploads/2025/11/2025_05_30_09.00_Moj-ljubi-dom.jpg
END:VEVENT
BEGIN:VEVENT
DTSTART;TZID=Europe/Ljubljana:20250621T150000
DTEND;TZID=Europe/Ljubljana:20250621T170000
DTSTAMP:20260421T120638
CREATED:20250617T112613Z
LAST-MODIFIED:20260225T090158Z
UID:10000005-1750518000-1750525200@www.muzej-nz-ce.si
SUMMARY:Rojstni dan s Hermanom Lisjakom
DESCRIPTION:Kulturno\, lutkovno\, plesno\, glasbeno in ustvarjalno druženje za otroke\, družine in vse\, ki so v 30 letih obiskali Otroški muzej Hermanov brlog. \nKajetan Čop\, Adi Smolar\, Harlekin\, Pika Flika Nogavička … \nVabljeni!
URL:https://www.muzej-nz-ce.si/dogodek/rojstni-dan-s-hermanom-lisjakom/
LOCATION:Otroški muzej Hermanov brlog\, Prešernova ulica 17\, 3000 Celje\, Slovenia
CATEGORIES:Arhiv dogodkov
END:VEVENT
BEGIN:VEVENT
DTSTART;TZID=Europe/Ljubljana:20250620T090000
DTEND;TZID=Europe/Ljubljana:20250620T100000
DTSTAMP:20260421T120638
CREATED:20250617T111746Z
LAST-MODIFIED:20260225T090158Z
UID:10000004-1750410000-1750413600@www.muzej-nz-ce.si
SUMMARY:To sem jaz
DESCRIPTION:20.06.2025 ob 09:00 uri \n\n\n\n\n\n\nHermanova otroška ustvarjalnica ob razstavi Svet Hermanovih prijateljev. \nZa skupine\, predhodna najava. \nVabljeni!
URL:https://www.muzej-nz-ce.si/dogodek/to-sem-jaz/
LOCATION:Otroški muzej Hermanov brlog\, Prešernova ulica 17\, 3000 Celje\, Slovenia
CATEGORIES:Arhiv dogodkov
END:VEVENT
END:VCALENDAR